BEGIN:VCALENDAR
VERSION:2.0
PRODID:-//Australian Federation of Ukrainian Organisations - ECPv6.15.20//NONSGML v1.0//EN
CALSCALE:GREGORIAN
METHOD:PUBLISH
X-ORIGINAL-URL:https://afuo.org.au
X-WR-CALDESC:Events for Australian Federation of Ukrainian Organisations
REFRESH-INTERVAL;VALUE=DURATION:PT1H
X-Robots-Tag:noindex
X-PUBLISHED-TTL:PT1H
BEGIN:VTIMEZONE
TZID:Australia/Melbourne
BEGIN:STANDARD
TZOFFSETFROM:+1100
TZOFFSETTO:+1000
TZNAME:AEST
DTSTART:20210403T160000
END:STANDARD
BEGIN:DAYLIGHT
TZOFFSETFROM:+1000
TZOFFSETTO:+1100
TZNAME:AEDT
DTSTART:20211002T160000
END:DAYLIGHT
BEGIN:STANDARD
TZOFFSETFROM:+1100
TZOFFSETTO:+1000
TZNAME:AEST
DTSTART:20220402T160000
END:STANDARD
BEGIN:DAYLIGHT
TZOFFSETFROM:+1000
TZOFFSETTO:+1100
TZNAME:AEDT
DTSTART:20221001T160000
END:DAYLIGHT
BEGIN:STANDARD
TZOFFSETFROM:+1100
TZOFFSETTO:+1000
TZNAME:AEST
DTSTART:20230401T160000
END:STANDARD
BEGIN:DAYLIGHT
TZOFFSETFROM:+1000
TZOFFSETTO:+1100
TZNAME:AEDT
DTSTART:20230930T160000
END:DAYLIGHT
END:VTIMEZONE
BEGIN:VTIMEZONE
TZID:Australia/Sydney
BEGIN:STANDARD
TZOFFSETFROM:+1100
TZOFFSETTO:+1000
TZNAME:AEST
DTSTART:20210403T160000
END:STANDARD
BEGIN:DAYLIGHT
TZOFFSETFROM:+1000
TZOFFSETTO:+1100
TZNAME:AEDT
DTSTART:20211002T160000
END:DAYLIGHT
BEGIN:STANDARD
TZOFFSETFROM:+1100
TZOFFSETTO:+1000
TZNAME:AEST
DTSTART:20220402T160000
END:STANDARD
BEGIN:DAYLIGHT
TZOFFSETFROM:+1000
TZOFFSETTO:+1100
TZNAME:AEDT
DTSTART:20221001T160000
END:DAYLIGHT
BEGIN:STANDARD
TZOFFSETFROM:+1100
TZOFFSETTO:+1000
TZNAME:AEST
DTSTART:20230401T160000
END:STANDARD
BEGIN:DAYLIGHT
TZOFFSETFROM:+1000
TZOFFSETTO:+1100
TZNAME:AEDT
DTSTART:20230930T160000
END:DAYLIGHT
END:VTIMEZONE
BEGIN:VTIMEZONE
TZID:Australia/Perth
BEGIN:STANDARD
TZOFFSETFROM:+0800
TZOFFSETTO:+0800
TZNAME:AWST
DTSTART:20210101T000000
END:STANDARD
END:VTIMEZONE
BEGIN:VEVENT
DTSTART;TZID=Australia/Melbourne:20220409T130000
DTEND;TZID=Australia/Melbourne:20220409T150000
DTSTAMP:20260420T082638
CREATED:20220411T234719Z
LAST-MODIFIED:20220411T234719Z
UID:13960-1649509200-1649516400@afuo.org.au
SUMMARY:Pysanky for Ukraine
DESCRIPTION:An exhibition of Ukrainian Pysanky just in time for Easter. A demonstration on the painting of traditional Ukrainian Pysanky and a brief talk outlining the steps of the process. \nHeld at the beautiful Ellis House in Bayswater\, Western Australia\, just a short stroll to the Swan River.
URL:https://afuo.org.au/event/pysanky-for-ukraine/
LOCATION:Ellis House in Bayswater
CATEGORIES:Exhibition
ATTACH;FMTTYPE=image/jpeg:https://afuo.org.au/wp-content/uploads/2022/03/ukrainian-eggs.jpg
END:VEVENT
BEGIN:VEVENT
DTSTART;TZID=Australia/Melbourne:20220409T120000
DTEND;TZID=Australia/Melbourne:20220409T140000
DTSTAMP:20260420T082638
CREATED:20220406T105038Z
LAST-MODIFIED:20220406T105038Z
UID:14041-1649505600-1649512800@afuo.org.au
SUMMARY:Perth | Peace for Ukraine - Stop Putin’s Genocide!
DESCRIPTION:The news over the last weekend has shown the horrific scenes left behind by the Russian Terrorists. \nThis is no longer just a war. It’s the Genocide of the Ukrainian people. Our people have suffered enough! \nJoin us at Forrest Place this Saturday\, the 9th of April\, to condemn the actions of Russia. The rest of the world stands by\, while the Ukrainian people are being systematically and deliberately murdered\, and cities are turned into dust. \nWe are honoured to have MPs\, dignitaries\, and representatives of the Ukrainian Community coming together to support Ukraine. \nWe will also hear the stories of Ukrainians\, Displaced Persons\, who have recently arrived in Australia. \nCome in your vyshyvankas\, your blues and yellows\, your placards\, and your voices! \nPlease also remember to adhere to Covid rules\, and wear your masks. \nAnyone who supports humanity\, freedom\, democracy\, and an end to violence and war\, please come and raise your voices! \nСлава Україні!\nSlava Ukraini!\nGlory to Ukraine!
URL:https://afuo.org.au/event/perth-peace-for-ukraine-stop-putins-genocide/
LOCATION:Forrest Place\, Perth CBD\, Forrest Place\, Perth\, Western Australia\, 6061\, Australia
CATEGORIES:Community Gathering
ATTACH;FMTTYPE=image/jpeg:https://afuo.org.au/wp-content/uploads/2022/04/5201F550-7070-4426-9787-82BFF7A0F42F.jpeg
END:VEVENT
BEGIN:VEVENT
DTSTART;TZID=Australia/Melbourne:20220409T100000
DTEND;TZID=Australia/Melbourne:20220409T120000
DTSTAMP:20260420T082639
CREATED:20220407T083542Z
LAST-MODIFIED:20220407T083542Z
UID:14046-1649498400-1649505600@afuo.org.au
SUMMARY:Sydney | Displaced People - Meet and Greet
DESCRIPTION:Meet and greet for displaced Ukrainian people and the Australian Ukrainian community. Displaced people will have an opportunity to take items that have been donated for them.
URL:https://afuo.org.au/event/sydney-displaced-people-meet-and-greet-3/
LOCATION:CYM Hall – 3 John St Lidcombe\, 3 John St\, Lidcombe\, New South Wales\, 2141\, Australia
ATTACH;FMTTYPE=image/jpeg:https://afuo.org.au/wp-content/uploads/2022/04/Meet-and-Greet.jpg
END:VEVENT
BEGIN:VEVENT
DTSTART;TZID=Australia/Sydney:20220409T100000
DTEND;TZID=Australia/Sydney:20220409T113000
DTSTAMP:20260420T082639
CREATED:20220405T101437Z
LAST-MODIFIED:20220405T101437Z
UID:14021-1649498400-1649503800@afuo.org.au
SUMMARY:Canberra | Protest at russian embassy against Genocide!
DESCRIPTION:ATTENTION CANBERRA and the FREE WORLD: The failing military campaign by putin’s army is turning into genocide against unarmed civilians in Ukraine. Vengeful and desperate to please their blood thirsty leader\, russians invoked true evil.\nHorrific footage in Bucha is just the beginning. New revelations from tens if not hundreds of villages and towns are yet to emerge of putin’s genocide against Ukrainian people.\nPlease join us again at our ongoing protest outside putin’s embassy in Canberra. We will be mourning innocent Ukrainian souls\, calling on putin to STOP the GENOCIDE and GET OUT OF UKRAINE\, We call on expulsion of the terrorists in the rf embassy from Australia.\nCanberra\, STAND WITH Ukraine!\nOutside the Embassy of the russian federation (78 Canberra Avenue\, Griffith\, ACT)
URL:https://afuo.org.au/event/canberra-protest-at-russian-embassy-against-genocide/
LOCATION:Russian Embassy of Australia\, Canberra\, 78 Canberra Avenue\, Griffith\, ACT\, 2603\, Australia
ATTACH;FMTTYPE=image/jpeg:https://afuo.org.au/wp-content/uploads/2022/04/277552753_10161561687842738_4473058017736872898_n.jpg
END:VEVENT
BEGIN:VEVENT
DTSTART;TZID=Australia/Melbourne:20220408T183000
DTEND;TZID=Australia/Melbourne:20220408T220000
DTSTAMP:20260420T082639
CREATED:20220402T100748Z
LAST-MODIFIED:20220402T100748Z
UID:13980-1649442600-1649455200@afuo.org.au
SUMMARY:Geelong | Pysanky on Pako
DESCRIPTION:An enchanting Easter tradition\, egg-decorating using traditional colourings and wax-resistant method in stunning historical design.\n$10 entry fee per person. All dyes\, wax and equipment provided. BYO eggs.\nTraditional food on sale.\nAll proceeds going to the Geelong Ukrainian Displaced Persons Project
URL:https://afuo.org.au/event/geelong-pysanky-on-pako/
LOCATION:Ukrainian Community Hall\, Geelong\, 57 Pakington Street\, Geelong West\, Geelong\, VIC\, Australia
CATEGORIES:Community Gathering
ATTACH;FMTTYPE=image/png:https://afuo.org.au/wp-content/uploads/2022/04/pysanky-on-pako.png
END:VEVENT
BEGIN:VEVENT
DTSTART;TZID=Australia/Melbourne:20220408T170000
DTEND;TZID=Australia/Melbourne:20220408T190000
DTSTAMP:20260420T082639
CREATED:20220401T133653Z
LAST-MODIFIED:20220401T133653Z
UID:13975-1649437200-1649444400@afuo.org.au
SUMMARY:RESISTANCE
DESCRIPTION:RUSSIA’S WAR ON UKRAINE: PART I \nThe Melbourne Eurasianist Seminar Series at the University of Melbourne\, the Ukrainian Studies Foundation in Australia and the Ukrainian Studies Association of Australia and New Zealand are co-hosting a series of six online events titled “Russia’s War on Ukraine.” \nThe series will begin with a session on the theme of “Resistance” on Friday 8 April 2022\, 5:00PM AEST. \nThis session will feature: \nDr Olga Boichak (University of Sydney)\nDr Roman Horbyk (currently serving as a psychological support volunteer in Lviv)\nEmeritus Professor Marko Pavlyshyn (Monash University)\nThis event will take place online via Zoom; all are welcome. \nYou can register for this event via this link: https://www.eventbrite.com.au/e/russias-war-on-ukraine-resistance-tickets-310822076197 \nRegistration is free\, but attendees who wish to support Ukraine may make a donation to one of the appeals endorsed by the Australian Federation of Ukrainian Organisations: http://afuo.org.au/donate/ \nFor more information\, please email felicity.hodgson@unimelb.edu.au
URL:https://afuo.org.au/event/resistance/
LOCATION:online
CATEGORIES:Seminar
ATTACH;FMTTYPE=image/jpeg:https://afuo.org.au/wp-content/uploads/2022/04/thumbnail_Resistance-poster-final.jpg
END:VEVENT
BEGIN:VEVENT
DTSTART;TZID=Australia/Sydney:20220407T130000
DTEND;TZID=Australia/Sydney:20220407T140000
DTSTAMP:20260420T082639
CREATED:20220404T113807Z
LAST-MODIFIED:20220404T113807Z
UID:14015-1649336400-1649340000@afuo.org.au
SUMMARY:Canberra | Expel russia from the UN
DESCRIPTION:Please join our protest where we demand for the United Nations to expel russia. \nThis madness has to stop! We demand that russia is expelled from the United Nations immediately!
URL:https://afuo.org.au/event/canberra-expel-russia-from-the-un/
LOCATION:Old Parliament House\, Canberra\, 18 King George Terrace\, Parkes\, ACT\, 2600\, Australia
ATTACH;FMTTYPE=image/jpeg:https://afuo.org.au/wp-content/uploads/2022/04/277669145_10161915538558102_8376035256825845213_n.jpg
END:VEVENT
BEGIN:VEVENT
DTSTART;TZID=Australia/Melbourne:20220405T130000
DTEND;TZID=Australia/Melbourne:20220405T143000
DTSTAMP:20260420T082639
CREATED:20220404T083819Z
LAST-MODIFIED:20220404T083819Z
UID:14006-1649163600-1649169000@afuo.org.au
SUMMARY:Sydney | Rally Against Putin's Genocide in Ukraine
DESCRIPTION:Rally at Martin Place against the horrific images of genocide emerging from towns recaptured by Ukrainian forces.
URL:https://afuo.org.au/event/sydney-rally-against-putins-genocide-in-ukraine/
LOCATION:Martin Place\, Sydney\, Martin Place\, Sydney\, NSW\, Australia
ATTACH;FMTTYPE=image/jpeg:https://afuo.org.au/wp-content/uploads/2022/04/by-Ignat-Ivlev-York.jpg
END:VEVENT
BEGIN:VEVENT
DTSTART;TZID=Australia/Melbourne:20220403T180000
DTEND;TZID=Australia/Melbourne:20220403T190000
DTSTAMP:20260420T082639
CREATED:20220330T104003Z
LAST-MODIFIED:20220330T104003Z
UID:13927-1649008800-1649012400@afuo.org.au
SUMMARY:Geelong | Молитви за Україну - Вервиця / Prayers for Ukraine - Rosary
DESCRIPTION:Молитви за Україну по парафіях Української Греко-Каталоцької Церкви в Австралії – Prayers for Ukraine at parishes of Ukrainian Greek-Catholic Church in Australia
URL:https://afuo.org.au/event/geelong-%d0%bc%d0%be%d0%bb%d0%b8%d1%82%d0%b2%d0%b8-%d0%b7%d0%b0-%d1%83%d0%ba%d1%80%d0%b0%d1%97%d0%bd%d1%83-%d0%b2%d0%b5%d1%80%d0%b2%d0%b8%d1%86%d1%8f-prayers-for-ukraine-rosary-4/
LOCATION:Parish of the Protection of the Mother of God\, Geelong\, 21 Alder Crescent\, Bell Park\, Geelong\, VIC\, 3215\, Australia
CATEGORIES:Liturgy
END:VEVENT
BEGIN:VEVENT
DTSTART;TZID=Australia/Sydney:20220403T120000
DTEND;TZID=Australia/Sydney:20220403T170000
DTSTAMP:20260420T082639
CREATED:20220330T125910Z
LAST-MODIFIED:20220330T125910Z
UID:13953-1648987200-1649005200@afuo.org.au
SUMMARY:Autumn Fest - Fundraiser for Ukraine
DESCRIPTION:Fundraiser for Ukraine at the Polish White Eagle Club (37 David St\, Turner\, ACT).\nCultural Performance\nMerchandise\nBaltic\, Polish and Ukrainian Cuisine
URL:https://afuo.org.au/event/autumn-fest-fundraiser-for-ukraine/
LOCATION:Polish White Eagle Club\, 37 David Street\, Turner\, ACT\, 2612\, Australia
ATTACH;FMTTYPE=image/jpeg:https://afuo.org.au/wp-content/uploads/2022/03/276154902_4649265661850023_4949797554864658634_n.jpg
END:VEVENT
BEGIN:VEVENT
DTSTART;TZID=Australia/Melbourne:20220403T100000
DTEND;TZID=Australia/Melbourne:20220403T110000
DTSTAMP:20260420T082639
CREATED:20220330T104954Z
LAST-MODIFIED:20220330T104954Z
UID:13942-1648980000-1648983600@afuo.org.au
SUMMARY:Ardeer | Молитви за Україну - Божественна Літургія / Prayers for Ukraine - Divine Liturgy
DESCRIPTION:Молитви за Україну по парафіях Української Греко-Каталоцької Церкви в Австралії – Prayers for Ukraine at parishes of Ukrainian Greek-Catholic Church in Australia
URL:https://afuo.org.au/event/ardeer-%d0%bc%d0%be%d0%bb%d0%b8%d1%82%d0%b2%d0%b8-%d0%b7%d0%b0-%d1%83%d0%ba%d1%80%d0%b0%d1%97%d0%bd%d1%83-%d0%b1%d0%be%d0%b6%d0%b5%d1%81%d1%82%d0%b2%d0%b5%d0%bd%d0%bd%d0%b0-%d0%bb%d1%96%d1%82/
LOCATION:Ukrainian Catholic Church\, Ardeer\, 2 Holmes St\, Ardeer\, Victoria\, 3022\, Australia
CATEGORIES:Liturgy
END:VEVENT
BEGIN:VEVENT
DTSTART;TZID=Australia/Melbourne:20220403T100000
DTEND;TZID=Australia/Melbourne:20220403T110000
DTSTAMP:20260420T082639
CREATED:20220330T104619Z
LAST-MODIFIED:20220330T104619Z
UID:13936-1648980000-1648983600@afuo.org.au
SUMMARY:Adelaide - Wayville | Божественна Літургія / Divine Liturgy
DESCRIPTION:Молитви за Україну по парафіях Української Греко-Каталоцької Церкви в Австралії – Prayers for Ukraine at parishes of Ukrainian Greek-Catholic Church in Australia
URL:https://afuo.org.au/event/adelaide-wayville-%d0%b1%d0%be%d0%b6%d0%b5%d1%81%d1%82%d0%b2%d0%b5%d0%bd%d0%bd%d0%b0-%d0%bb%d1%96%d1%82%d1%83%d1%80%d0%b3%d1%96%d1%8f-divine-liturgy-2/
LOCATION:Parish of Our Lady of Proection\, Wayville\, 1A Davenport Terrace\, Wayville\, Adelaide\, SA\, 5034\, Australia
CATEGORIES:Liturgy
END:VEVENT
BEGIN:VEVENT
DTSTART;TZID=Australia/Melbourne:20220403T090000
DTEND;TZID=Australia/Melbourne:20220403T100000
DTSTAMP:20260420T082639
CREATED:20220330T104724Z
LAST-MODIFIED:20220330T104724Z
UID:13938-1648976400-1648980000@afuo.org.au
SUMMARY:Melbourne | Божественна Літургія / Divine Liturgy
DESCRIPTION:Молитви за Україну по парафіях Української Греко-Каталоцької Церкви в Австралії – Prayers for Ukraine at parishes of Ukrainian Greek-Catholic Church in Australia
URL:https://afuo.org.au/event/melbourne-%d0%b1%d0%be%d0%b6%d0%b5%d1%81%d1%82%d0%b2%d0%b5%d0%bd%d0%bd%d0%b0-%d0%bb%d1%96%d1%82%d1%83%d1%80%d0%b3%d1%96%d1%8f-divine-liturgy/
LOCATION:Ukrainian Catholic Cathedral Parish of Sts Peter and Paul\, 35 Canning St\, North Melbourne\, VIC\, 3051\, Australia
CATEGORIES:Liturgy
END:VEVENT
BEGIN:VEVENT
DTSTART;TZID=Australia/Melbourne:20220403T083000
DTEND;TZID=Australia/Melbourne:20220403T103000
DTSTAMP:20260420T082639
CREATED:20220330T130126Z
LAST-MODIFIED:20220330T130126Z
UID:13956-1648974600-1648981800@afuo.org.au
SUMMARY:Classic Cars and Coffee Event
DESCRIPTION:Aa VERY special event this month! An easy-going Covid safe display of vintage\, classic and rare modern sports and luxury cars\, in support of the Prostate Cancer Foundation of Australia. Best coffee and now with breakfast and brunch options. \nSpecial focus on yellow & blue cars in support of Ukraine & Swedish cars in April! \nThat is part of the peak Ukrainian National Body AFUO\, Australian Federation of Ukrainian Organisations.
URL:https://afuo.org.au/event/classic-cars-and-coffee-event-2/
LOCATION:University of Western Australia\, Car Park 3\, Hackett Drive\, Crawley\, Perth\, WA\, Australia
ATTACH;FMTTYPE=image/jpeg:https://afuo.org.au/wp-content/uploads/2022/03/Classic-Car-Coffee.jpg
END:VEVENT
BEGIN:VEVENT
DTSTART;TZID=Australia/Perth:20220403T083000
DTEND;TZID=Australia/Perth:20220403T103000
DTSTAMP:20260420T082639
CREATED:20220327T115341Z
LAST-MODIFIED:20220327T115341Z
UID:13884-1648974600-1648981800@afuo.org.au
SUMMARY:Classic Cars and Coffee Event
DESCRIPTION:WE ARE BACK with a VERY special event this month! An easy-going Covid safe display of vintage\, classic and rare modern sports and luxury cars\, in support of the Prostate Cancer Foundation of Australia. Best coffee and now with breakfast and brunch options.\nSpecial focus on yellow & blue cars in support of Ukraine & Swedish cars in April! \nUkrainian community members will be on hand to raise funds for https://www.ukrainecrisisappeal.org/\nThat is part of the peak Ukrainian National Body AFUO\, Australian Federation of Ukrainian Organisations.
URL:https://afuo.org.au/event/classic-cars-and-coffee-event/
LOCATION:VIC
CATEGORIES:Exhibition
ATTACH;FMTTYPE=image/jpeg:https://afuo.org.au/wp-content/uploads/2022/03/271871565_2518040575007511_2649743836475587091_n-scaled.jpg
END:VEVENT
BEGIN:VEVENT
DTSTART;TZID=Australia/Melbourne:20220402T180000
DTEND;TZID=Australia/Melbourne:20220402T190000
DTSTAMP:20260420T082639
CREATED:20220330T103933Z
LAST-MODIFIED:20220330T103933Z
UID:13925-1648922400-1648926000@afuo.org.au
SUMMARY:Geelong | Молитви за Україну - Вервиця / Prayers for Ukraine - Rosary
DESCRIPTION:Молитви за Україну по парафіях Української Греко-Каталоцької Церкви в Австралії – Prayers for Ukraine at parishes of Ukrainian Greek-Catholic Church in Australia
URL:https://afuo.org.au/event/geelong-%d0%bc%d0%be%d0%bb%d0%b8%d1%82%d0%b2%d0%b8-%d0%b7%d0%b0-%d1%83%d0%ba%d1%80%d0%b0%d1%97%d0%bd%d1%83-%d0%b2%d0%b5%d1%80%d0%b2%d0%b8%d1%86%d1%8f-prayers-for-ukraine-rosary-3/
LOCATION:Parish of the Protection of the Mother of God\, Geelong\, 21 Alder Crescent\, Bell Park\, Geelong\, VIC\, 3215\, Australia
CATEGORIES:Liturgy
END:VEVENT
BEGIN:VEVENT
DTSTART;TZID=Australia/Melbourne:20220402T170000
DTEND;TZID=Australia/Melbourne:20220402T180000
DTSTAMP:20260420T082639
CREATED:20220330T104849Z
LAST-MODIFIED:20220330T104849Z
UID:13940-1648918800-1648922400@afuo.org.au
SUMMARY:Ardeer | Молитви за Україну - Хресна Дорога / Prayers for Ukraine - Stations of the Cross
DESCRIPTION:Молитви за Україну по парафіях Української Греко-Каталоцької Церкви в Австралії – Prayers for Ukraine at parishes of Ukrainian Greek-Catholic Church in Australia
URL:https://afuo.org.au/event/ardeer-%d0%bc%d0%be%d0%bb%d0%b8%d1%82%d0%b2%d0%b8-%d0%b7%d0%b0-%d1%83%d0%ba%d1%80%d0%b0%d1%97%d0%bd%d1%83-%d1%85%d1%80%d0%b5%d1%81%d0%bd%d0%b0-%d0%b4%d0%be%d1%80%d0%be%d0%b3%d0%b0-prayers-for-uk/
LOCATION:Ukrainian Catholic Church\, Ardeer\, 2 Holmes St\, Ardeer\, Victoria\, 3022\, Australia
CATEGORIES:Liturgy
END:VEVENT
BEGIN:VEVENT
DTSTART;TZID=Australia/Melbourne:20220402T140000
DTEND;TZID=Australia/Melbourne:20220402T153000
DTSTAMP:20260420T082639
CREATED:20220330T092949Z
LAST-MODIFIED:20220330T092949Z
UID:13891-1648908000-1648913400@afuo.org.au
SUMMARY:Rally - Help Ukraine Now
DESCRIPTION:Rally in support of Ukraine. Meet at Martin Place and then march to Circular Quay
URL:https://afuo.org.au/event/rally-help-ukraine-now-4/
LOCATION:Martin Place\, Sydney\, Martin Place\, Sydney\, NSW\, Australia
ATTACH;FMTTYPE=image/jpeg:https://afuo.org.au/wp-content/uploads/2022/03/Help-Ukraine-Now-3.jpg
END:VEVENT
BEGIN:VEVENT
DTSTART;TZID=Australia/Melbourne:20220402T100000
DTEND;TZID=Australia/Melbourne:20220402T120000
DTSTAMP:20260420T082639
CREATED:20220330T092925Z
LAST-MODIFIED:20220330T092925Z
UID:13893-1648893600-1648900800@afuo.org.au
SUMMARY:Sydney Displaced People - Meet and Greet
DESCRIPTION:Meet and greet with displaced people at the Ukrainian Youth Association Hall at 3 John St Lidcombe.
URL:https://afuo.org.au/event/sydney-displaced-people-meet-and-greet-2/
LOCATION:CYM Hall – 3 John St Lidcombe\, 3 John St\, Lidcombe\, New South Wales\, 2141\, Australia
ATTACH;FMTTYPE=image/jpeg:https://afuo.org.au/wp-content/uploads/2022/03/Meet-and-Greet.jpg
END:VEVENT
BEGIN:VEVENT
DTSTART;TZID=Australia/Sydney:20220402T100000
DTEND;TZID=Australia/Sydney:20220402T113000
DTSTAMP:20260420T082639
CREATED:20220330T125840Z
LAST-MODIFIED:20220330T125840Z
UID:13951-1648893600-1648899000@afuo.org.au
SUMMARY:Protest outside the russian embassy
DESCRIPTION:Saturday 2 April @ 10am outside the rf embassy\n78 Canberra Avenue\, Griffith\, ACT
URL:https://afuo.org.au/event/protest-outside-the-russian-embassy-2/
LOCATION:Embassy of the russian Federation\, 78 Canberra Avenue\, Griffith\, Canberra\, ACT\, Australia
ATTACH;FMTTYPE=image/jpeg:https://afuo.org.au/wp-content/uploads/2022/03/276320535_10161549111532738_6582902400816632765_n.jpg
END:VEVENT
BEGIN:VEVENT
DTSTART;TZID=Australia/Melbourne:20220402T100000
DTEND;TZID=Australia/Melbourne:20220402T110000
DTSTAMP:20260420T082639
CREATED:20220330T104542Z
LAST-MODIFIED:20220330T104542Z
UID:13934-1648893600-1648897200@afuo.org.au
SUMMARY:Adelaide - Wayville | Божественна Літургія / Divine Liturgy
DESCRIPTION:Молитви за Україну по парафіях Української Греко-Каталоцької Церкви в Австралії – Prayers for Ukraine at parishes of Ukrainian Greek-Catholic Church in Australia
URL:https://afuo.org.au/event/adelaide-wayville-%d0%b1%d0%be%d0%b6%d0%b5%d1%81%d1%82%d0%b2%d0%b5%d0%bd%d0%bd%d0%b0-%d0%bb%d1%96%d1%82%d1%83%d1%80%d0%b3%d1%96%d1%8f-divine-liturgy/
LOCATION:Parish of Our Lady of Proection\, Wayville\, 1A Davenport Terrace\, Wayville\, Adelaide\, SA\, 5034\, Australia
CATEGORIES:Liturgy
END:VEVENT
BEGIN:VEVENT
DTSTART;TZID=Australia/Melbourne:20220401T190000
DTEND;TZID=Australia/Melbourne:20220401T200000
DTSTAMP:20260420T082639
CREATED:20220330T103636Z
LAST-MODIFIED:20220330T103636Z
UID:13921-1648839600-1648843200@afuo.org.au
SUMMARY:Ardeer | Молитви за Україну - Акафіст до Страстей Христових / Prayers for Ukraine - Akathist to the Passion of Christ
DESCRIPTION:Молитви за Україну по парафіях Української Греко-Каталоцької Церкви в Австралії – Prayers for Ukraine at parishes of Ukrainian Greek-Catholic Church in Australia
URL:https://afuo.org.au/event/ardeer-%d0%bc%d0%be%d0%bb%d0%b8%d1%82%d0%b2%d0%b8-%d0%b7%d0%b0-%d1%83%d0%ba%d1%80%d0%b0%d1%97%d0%bd%d1%83-%d0%b0%d0%ba%d0%b0%d1%84%d1%96%d1%81%d1%82-%d0%b4%d0%be-%d1%81%d1%82%d1%80%d0%b0%d1%81/
LOCATION:Ukrainian Catholic Church\, Ardeer\, 2 Holmes St\, Ardeer\, Victoria\, 3022\, Australia
CATEGORIES:Liturgy
END:VEVENT
BEGIN:VEVENT
DTSTART;TZID=Australia/Melbourne:20220401T180000
DTEND;TZID=Australia/Melbourne:20220401T190000
DTSTAMP:20260420T082639
CREATED:20220330T103844Z
LAST-MODIFIED:20220330T103844Z
UID:13923-1648836000-1648839600@afuo.org.au
SUMMARY:Geelong | Молитви за Україну - Вервиця / Prayers for Ukraine - Rosary
DESCRIPTION:Молитви за Україну по парафіях Української Греко-Каталоцької Церкви в Австралії – Prayers for Ukraine at parishes of Ukrainian Greek-Catholic Church in Australia
URL:https://afuo.org.au/event/geelong-%d0%bc%d0%be%d0%bb%d0%b8%d1%82%d0%b2%d0%b8-%d0%b7%d0%b0-%d1%83%d0%ba%d1%80%d0%b0%d1%97%d0%bd%d1%83-%d0%b2%d0%b5%d1%80%d0%b2%d0%b8%d1%86%d1%8f-prayers-for-ukraine-rosary-2/
LOCATION:Parish of the Protection of the Mother of God\, Geelong\, 21 Alder Crescent\, Bell Park\, Geelong\, VIC\, 3215\, Australia
CATEGORIES:Liturgy
END:VEVENT
BEGIN:VEVENT
DTSTART;TZID=Australia/Melbourne:20220401T100000
DTEND;TZID=Australia/Melbourne:20220401T110000
DTSTAMP:20260420T082639
CREATED:20220330T104251Z
LAST-MODIFIED:20220330T104251Z
UID:13929-1648807200-1648810800@afuo.org.au
SUMMARY:Newcastle | Молитви за Україну / Prayers for Ukraine
DESCRIPTION:Молитви за Україну по парафіях Української Греко-Каталоцької Церкви в Австралії – Prayers for Ukraine at parishes of Ukrainian Greek-Catholic Church in Australia
URL:https://afuo.org.au/event/newcastle-%d0%bc%d0%be%d0%bb%d0%b8%d1%82%d0%b2%d0%b8-%d0%b7%d0%b0-%d1%83%d0%ba%d1%80%d0%b0%d1%97%d0%bd%d1%83-%d0%b2%d0%b5%d1%80%d0%b2%d0%b8%d1%86%d1%8f-prayers-for-ukraine/
LOCATION:Parish of the Protection of the Mother of God\, Newcastle\, 105 Gosford Rd\, Adamstown\, Newcastle\, NSW\, 2289\, Australia
CATEGORIES:Liturgy
END:VEVENT
BEGIN:VEVENT
DTSTART;TZID=Australia/Melbourne:20220401T090000
DTEND;TZID=Australia/Melbourne:20220401T100000
DTSTAMP:20260420T082639
CREATED:20220330T104442Z
LAST-MODIFIED:20220330T104442Z
UID:13932-1648803600-1648807200@afuo.org.au
SUMMARY:Adelaide - Wayville | Молитви за Україну - Літургія Напередосвячених Дарів
DESCRIPTION:Молитви за Україну по парафіях Української Греко-Каталоцької Церкви в Австралії – Prayers for Ukraine at parishes of Ukrainian Greek-Catholic Church in Australia
URL:https://afuo.org.au/event/adelaide-wayville-%d0%bc%d0%be%d0%bb%d0%b8%d1%82%d0%b2%d0%b8-%d0%b7%d0%b0-%d1%83%d0%ba%d1%80%d0%b0%d1%97%d0%bd%d1%83-%d0%bb%d1%96%d1%82%d1%83%d1%80%d0%b3%d1%96%d1%8f-%d0%bd%d0%b0%d0%bf%d0%b5/
LOCATION:Parish of Our Lady of Proection\, Wayville\, 1A Davenport Terrace\, Wayville\, Adelaide\, SA\, 5034\, Australia
CATEGORIES:Liturgy
END:VEVENT
BEGIN:VEVENT
DTSTART;TZID=Australia/Melbourne:20220401T090000
DTEND;TZID=Australia/Melbourne:20220401T100000
DTSTAMP:20260420T082639
CREATED:20220330T103509Z
LAST-MODIFIED:20220330T103509Z
UID:13919-1648803600-1648807200@afuo.org.au
SUMMARY:Melbourne | Молитви за Україну -  Prayers for Ukraine
DESCRIPTION:Молитви за Україну по парафіях Української Греко-Каталоцької Церкви в Австралії – Prayers for Ukraine at parishes of Ukrainian Greek-Catholic Church in Australia
URL:https://afuo.org.au/event/melbourne-%d0%bc%d0%be%d0%bb%d0%b8%d1%82%d0%b2%d0%b8-%d0%b7%d0%b0-%d1%83%d0%ba%d1%80%d0%b0%d1%97%d0%bd%d1%83-prayers-for-ukraine/
LOCATION:Ukrainian Catholic Cathedral Parish of Sts Peter and Paul\, 35 Canning St\, North Melbourne\, VIC\, 3051\, Australia
CATEGORIES:Liturgy
END:VEVENT
BEGIN:VEVENT
DTSTART;TZID=Australia/Melbourne:20220331T190000
DTEND;TZID=Australia/Melbourne:20220331T200000
DTSTAMP:20260420T082639
CREATED:20220330T102617Z
LAST-MODIFIED:20220330T102730Z
UID:13909-1648753200-1648756800@afuo.org.au
SUMMARY:Молебень в часі війни / Moleben during a war
DESCRIPTION:Молитви за Україну по парафіях Української Греко-Каталоцької Церкви в Австралії – Prayers for Ukraine at parishes of Ukrainian Greek-Catholic Church in Australia \n  \n 
URL:https://afuo.org.au/event/%d0%bc%d0%be%d0%bb%d0%b8%d1%82%d0%b2%d0%b8-%d0%b7%d0%b0-%d1%83%d0%ba%d1%80%d0%b0%d1%97%d0%bd%d1%83-prayers-for-ukraine/
LOCATION:Ukrainian Catholic Church\, Ardeer\, 2 Holmes St\, Ardeer\, Victoria\, 3022\, Australia
CATEGORIES:Liturgy
END:VEVENT
BEGIN:VEVENT
DTSTART;TZID=Australia/Melbourne:20220331T180000
DTEND;TZID=Australia/Melbourne:20220331T180000
DTSTAMP:20260420T082639
CREATED:20220330T103033Z
LAST-MODIFIED:20220330T103033Z
UID:13913-1648749600-1648749600@afuo.org.au
SUMMARY:Geelong | Молитви за Україну - Вервиця / Prayers for Ukraine - Rosary
DESCRIPTION:Молитви за Україну по парафіях Української Греко-Каталоцької Церкви в Австралії – Prayers for Ukraine at parishes of Ukrainian Greek-Catholic Church in Australia
URL:https://afuo.org.au/event/geelong-%d0%bc%d0%be%d0%bb%d0%b8%d1%82%d0%b2%d0%b8-%d0%b7%d0%b0-%d1%83%d0%ba%d1%80%d0%b0%d1%97%d0%bd%d1%83-%d0%b2%d0%b5%d1%80%d0%b2%d0%b8%d1%86%d1%8f-prayers-for-ukraine-rosary/
LOCATION:Parish of the Protection of the Mother of God\, Geelong\, 21 Alder Crescent\, Bell Park\, Geelong\, VIC\, 3215\, Australia
CATEGORIES:Liturgy
END:VEVENT
BEGIN:VEVENT
DTSTART;TZID=Australia/Melbourne:20220331T120000
DTEND;TZID=Australia/Melbourne:20220331T130000
DTSTAMP:20260420T082639
CREATED:20220330T062104Z
LAST-MODIFIED:20220330T095052Z
UID:13888-1648728000-1648731600@afuo.org.au
SUMMARY:Rally - HSBC Out of Ukraine
DESCRIPTION:Another company that is not quitting Russia – HSBC bank. Let’s protest to let them know it’s not ok to fund the war.
URL:https://afuo.org.au/event/rally-hsbc-out-of-ukraine/
LOCATION:333 George Street\, 333 George Street\, Sydney\, NSW
ATTACH;FMTTYPE=image/jpeg:https://afuo.org.au/wp-content/uploads/2022/03/HSBC-Logo.jpg
END:VEVENT
BEGIN:VEVENT
DTSTART;TZID=Australia/Melbourne:20220331T090000
DTEND;TZID=Australia/Melbourne:20220331T100000
DTSTAMP:20260420T082639
CREATED:20220330T103321Z
LAST-MODIFIED:20220330T103321Z
UID:13916-1648717200-1648720800@afuo.org.au
SUMMARY:Adelaide - Wayville | Молитви за Україну - Утреня / Prayers for Ukraine -  Matins
DESCRIPTION:Молитви за Україну по парафіях Української Греко-Каталоцької Церкви в Австралії – Prayers for Ukraine at parishes of Ukrainian Greek-Catholic Church in Australia
URL:https://afuo.org.au/event/adelaide-wayville-%d0%bc%d0%be%d0%bb%d0%b8%d1%82%d0%b2%d0%b8-%d0%b7%d0%b0-%d1%83%d0%ba%d1%80%d0%b0%d1%97%d0%bd%d1%83-%d1%83%d1%82%d1%80%d0%b5%d0%bd%d1%8f-prayers-for-ukraine-matins/
LOCATION:Parish of Our Lady of Proection\, Wayville\, 1A Davenport Terrace\, Wayville\, Adelaide\, SA\, 5034\, Australia
CATEGORIES:Liturgy
END:VEVENT
END:VCALENDAR