BEGIN:VCALENDAR
VERSION:2.0
PRODID:-//Australian Federation of Ukrainian Organisations - ECPv6.15.20//NONSGML v1.0//EN
CALSCALE:GREGORIAN
METHOD:PUBLISH
X-WR-CALNAME:Australian Federation of Ukrainian Organisations
X-ORIGINAL-URL:https://afuo.org.au
X-WR-CALDESC:Events for Australian Federation of Ukrainian Organisations
REFRESH-INTERVAL;VALUE=DURATION:PT1H
X-Robots-Tag:noindex
X-PUBLISHED-TTL:PT1H
BEGIN:VTIMEZONE
TZID:Australia/Brisbane
BEGIN:STANDARD
TZOFFSETFROM:+1000
TZOFFSETTO:+1000
TZNAME:AEST
DTSTART:20200101T000000
END:STANDARD
END:VTIMEZONE
BEGIN:VTIMEZONE
TZID:Australia/Melbourne
BEGIN:STANDARD
TZOFFSETFROM:+1100
TZOFFSETTO:+1000
TZNAME:AEST
DTSTART:20180331T160000
END:STANDARD
BEGIN:DAYLIGHT
TZOFFSETFROM:+1000
TZOFFSETTO:+1100
TZNAME:AEDT
DTSTART:20181006T160000
END:DAYLIGHT
BEGIN:STANDARD
TZOFFSETFROM:+1100
TZOFFSETTO:+1000
TZNAME:AEST
DTSTART:20190406T160000
END:STANDARD
BEGIN:DAYLIGHT
TZOFFSETFROM:+1000
TZOFFSETTO:+1100
TZNAME:AEDT
DTSTART:20191005T160000
END:DAYLIGHT
BEGIN:STANDARD
TZOFFSETFROM:+1100
TZOFFSETTO:+1000
TZNAME:AEST
DTSTART:20200404T160000
END:STANDARD
BEGIN:DAYLIGHT
TZOFFSETFROM:+1000
TZOFFSETTO:+1100
TZNAME:AEDT
DTSTART:20201003T160000
END:DAYLIGHT
BEGIN:STANDARD
TZOFFSETFROM:+1100
TZOFFSETTO:+1000
TZNAME:AEST
DTSTART:20210403T160000
END:STANDARD
BEGIN:DAYLIGHT
TZOFFSETFROM:+1000
TZOFFSETTO:+1100
TZNAME:AEDT
DTSTART:20211002T160000
END:DAYLIGHT
BEGIN:STANDARD
TZOFFSETFROM:+1100
TZOFFSETTO:+1000
TZNAME:AEST
DTSTART:20220402T160000
END:STANDARD
BEGIN:DAYLIGHT
TZOFFSETFROM:+1000
TZOFFSETTO:+1100
TZNAME:AEDT
DTSTART:20221001T160000
END:DAYLIGHT
END:VTIMEZONE
BEGIN:VEVENT
DTSTART;VALUE=DATE:20210821
DTEND;VALUE=DATE:20210822
DTSTAMP:20260420T160701
CREATED:20210531T002737Z
LAST-MODIFIED:20210531T004641Z
UID:12656-1629504000-1629590399@afuo.org.au
SUMMARY:UCQ Ukrainian Independence Day Festival
DESCRIPTION:Time: TBC
URL:https://afuo.org.au/event/ucq-independence-day/
LOCATION:Ukrainian Community Centre\, Queensland\, 47 Galsworthy Street\, Holland Park\, Queensland\, 4121\, Australia
CATEGORIES:Community Gathering
END:VEVENT
BEGIN:VEVENT
DTSTART;TZID=Australia/Melbourne:20210717T180000
DTEND;TZID=Australia/Melbourne:20210717T230000
DTSTAMP:20260420T160701
CREATED:20210530T235029Z
LAST-MODIFIED:20210530T235124Z
UID:12652-1626544800-1626562800@afuo.org.au
SUMMARY:UCQ Social Night
DESCRIPTION:Ukrainian Community of Queensland Social Night
URL:https://afuo.org.au/event/ucq-social-night-july21/
LOCATION:Ukrainian Community Centre\, Queensland\, 47 Galsworthy Street\, Holland Park\, Queensland\, 4121\, Australia
CATEGORIES:Community Gathering
END:VEVENT
BEGIN:VEVENT
DTSTART;TZID=Australia/Melbourne:20210605T180000
DTEND;TZID=Australia/Melbourne:20210605T230000
DTSTAMP:20260420T160701
CREATED:20210530T234925Z
LAST-MODIFIED:20210530T234925Z
UID:12649-1622916000-1622934000@afuo.org.au
SUMMARY:UCQ - Social Night
DESCRIPTION:Ukrainian Community of Queensland Social Night
URL:https://afuo.org.au/event/ucq-social-night-june21/
LOCATION:Ukrainian Community Centre\, Queensland\, 47 Galsworthy Street\, Holland Park\, Queensland\, 4121\, Australia
CATEGORIES:Community Gathering
END:VEVENT
BEGIN:VEVENT
DTSTART;TZID=Australia/Melbourne:20190622T180000
DTEND;TZID=Australia/Melbourne:20190622T230000
DTSTAMP:20260420T160701
CREATED:20190523T104607Z
LAST-MODIFIED:20190526T114009Z
UID:12236-1561226400-1561244400@afuo.org.au
SUMMARY:Cocktail Night Fundraiser - Help Ukraine
DESCRIPTION:  \n \nHelp raise funds for a new Occupational Therapy program in Ukraine and celebrate major milestones of our community! \nThis includes 65 years of AFUO\, 70 years of the Ukrainian Women’s Association and 70 years of Ukrainian Settlement.\nKirrily Manning who will be facilitating the program\, is our special guest and keynote speaker. \nRead Kirrily’s biography story here. \nWhen: 22nd June 2019\, 6pm start       Where: 3-11 Russell St\, Essendon  Tickets: $20 donation         \nTICKETS ARE AVAILABLE NOW: bit.ly/AFUOCocktail\nЗ нагоди  ХХVIII З’їзду Союзу Українських Організацій Австралії \nта  відзначення \n70-ліття поселення українців в Австралії\n65-ліття СУОА\n70-ліття Союзу Українок Австралії\nзапрошуємо  українське громадянство \nна    КОКТЕЙЛЬНУ ВЕЧІРКУ\nта зустріч з делегатами З’їзду \nу суботу\, 22 червня 2019\, поч. год.6.00  веч. \nУкраїнський Народний  Дім \, 3 – 11 Russell St.\, Essendon \nКвитки: \nbit.ly/AFUOCocktail\n$20   Замовлення до 19.6.2019 \nУ програмі \nДоповідь  спеціальної  гості Kirrily Manning\, координатора ініціативи  Go Global Ukraine та доцента кафедри у школі професійної терапії та соціальної роботи в університеті Куртін\, З.А. \nKirrily Manning\, за підтримки СУОА\, планує впровадження нового проекту програми навчання фахівців з професійної терапії в Україні – Occupational Therapy Skills Training\, Ukraine . \nКоктейльною Вечікою започатковуємо благодійний  захід збору коштів для підтримки цього проекту. \nЧитайте про історію Кіррілі тут.
URL:https://afuo.org.au/event/cocktail-night/
LOCATION:Ukrainian House\, Essendon\, 3-11 Russell St\, Essendon\, Victoria\, 3051\, Australia
CATEGORIES:Cocktail Night
ATTACH;FMTTYPE=image/png:https://afuo.org.au/wp-content/uploads/2019/05/BANQUET-3-1.png
ORGANIZER;CN="Australian Federation of Ukrainian Organisations":MAILTO:zdvyh@ozeukes.com
END:VEVENT
BEGIN:VEVENT
DTSTART;TZID=Australia/Melbourne:20190406T170000
DTEND;TZID=Australia/Melbourne:20190406T210000
DTSTAMP:20260420T160701
CREATED:20190326T004657Z
LAST-MODIFIED:20190326T004657Z
UID:12191-1554570000-1554584400@afuo.org.au
SUMMARY:Verchovyna Vyshyvka Tour: Adelaide
DESCRIPTION:
URL:https://afuo.org.au/event/verchovyna-vyshyvka-tour-adelaide/
LOCATION:Association of Ukrainians SA\, 66 Orsmond St\,\, Adelaide\, South Australia\, 5007\, Australia
CATEGORIES:Concert,Dance
ATTACH;FMTTYPE=image/jpeg:https://afuo.org.au/wp-content/uploads/2019/03/CYM2.jpg
END:VEVENT
END:VCALENDAR