BEGIN:VCALENDAR
VERSION:2.0
PRODID:-//Australian Federation of Ukrainian Organisations - ECPv6.15.20//NONSGML v1.0//EN
CALSCALE:GREGORIAN
METHOD:PUBLISH
X-WR-CALNAME:Australian Federation of Ukrainian Organisations
X-ORIGINAL-URL:https://afuo.org.au
X-WR-CALDESC:Events for Australian Federation of Ukrainian Organisations
REFRESH-INTERVAL;VALUE=DURATION:PT1H
X-Robots-Tag:noindex
X-PUBLISHED-TTL:PT1H
BEGIN:VTIMEZONE
TZID:Australia/Melbourne
BEGIN:STANDARD
TZOFFSETFROM:+1100
TZOFFSETTO:+1000
TZNAME:AEST
DTSTART:20180331T160000
END:STANDARD
BEGIN:DAYLIGHT
TZOFFSETFROM:+1000
TZOFFSETTO:+1100
TZNAME:AEDT
DTSTART:20181006T160000
END:DAYLIGHT
BEGIN:STANDARD
TZOFFSETFROM:+1100
TZOFFSETTO:+1000
TZNAME:AEST
DTSTART:20190406T160000
END:STANDARD
BEGIN:DAYLIGHT
TZOFFSETFROM:+1000
TZOFFSETTO:+1100
TZNAME:AEDT
DTSTART:20191005T160000
END:DAYLIGHT
BEGIN:STANDARD
TZOFFSETFROM:+1100
TZOFFSETTO:+1000
TZNAME:AEST
DTSTART:20200404T160000
END:STANDARD
BEGIN:DAYLIGHT
TZOFFSETFROM:+1000
TZOFFSETTO:+1100
TZNAME:AEDT
DTSTART:20201003T160000
END:DAYLIGHT
BEGIN:STANDARD
TZOFFSETFROM:+1100
TZOFFSETTO:+1000
TZNAME:AEST
DTSTART:20210403T160000
END:STANDARD
BEGIN:DAYLIGHT
TZOFFSETFROM:+1000
TZOFFSETTO:+1100
TZNAME:AEDT
DTSTART:20211002T160000
END:DAYLIGHT
BEGIN:STANDARD
TZOFFSETFROM:+1100
TZOFFSETTO:+1000
TZNAME:AEST
DTSTART:20220402T160000
END:STANDARD
BEGIN:DAYLIGHT
TZOFFSETFROM:+1000
TZOFFSETTO:+1100
TZNAME:AEDT
DTSTART:20221001T160000
END:DAYLIGHT
BEGIN:STANDARD
TZOFFSETFROM:+1100
TZOFFSETTO:+1000
TZNAME:AEST
DTSTART:20230401T160000
END:STANDARD
BEGIN:DAYLIGHT
TZOFFSETFROM:+1000
TZOFFSETTO:+1100
TZNAME:AEDT
DTSTART:20230930T160000
END:DAYLIGHT
END:VTIMEZONE
BEGIN:VTIMEZONE
TZID:Australia/Perth
BEGIN:STANDARD
TZOFFSETFROM:+0800
TZOFFSETTO:+0800
TZNAME:AWST
DTSTART:20210101T000000
END:STANDARD
END:VTIMEZONE
BEGIN:VTIMEZONE
TZID:Australia/Sydney
BEGIN:STANDARD
TZOFFSETFROM:+1100
TZOFFSETTO:+1000
TZNAME:AEST
DTSTART:20210403T160000
END:STANDARD
BEGIN:DAYLIGHT
TZOFFSETFROM:+1000
TZOFFSETTO:+1100
TZNAME:AEDT
DTSTART:20211002T160000
END:DAYLIGHT
BEGIN:STANDARD
TZOFFSETFROM:+1100
TZOFFSETTO:+1000
TZNAME:AEST
DTSTART:20220402T160000
END:STANDARD
BEGIN:DAYLIGHT
TZOFFSETFROM:+1000
TZOFFSETTO:+1100
TZNAME:AEDT
DTSTART:20221001T160000
END:DAYLIGHT
BEGIN:STANDARD
TZOFFSETFROM:+1100
TZOFFSETTO:+1000
TZNAME:AEST
DTSTART:20230401T160000
END:STANDARD
BEGIN:DAYLIGHT
TZOFFSETFROM:+1000
TZOFFSETTO:+1100
TZNAME:AEDT
DTSTART:20230930T160000
END:DAYLIGHT
END:VTIMEZONE
BEGIN:VTIMEZONE
TZID:Australia/Brisbane
BEGIN:STANDARD
TZOFFSETFROM:+1000
TZOFFSETTO:+1000
TZNAME:AEST
DTSTART:20200101T000000
END:STANDARD
END:VTIMEZONE
BEGIN:VEVENT
DTSTART;TZID=Australia/Melbourne:20220328T180000
DTEND;TZID=Australia/Melbourne:20220328T220000
DTSTAMP:20260420T130657
CREATED:20220318T120911Z
LAST-MODIFIED:20220325T010712Z
UID:13581-1648490400-1648504800@afuo.org.au
SUMMARY:Australia Stands with Ukraine - UCA Benefit Fundraiser
DESCRIPTION:The humanitarian crisis caused by Putin’s war on Ukraine needs no introduction. The consequences for the Ukrainian people have been devastating. \nWith the generous support of the City of Sydney\, the Ukrainian Council of NSW is hosting the Ukraine Crisis Appeal Benefit. We expect strong bipartisan support from State politicians at the benefit\, as well as representation from leading corporations and local philanthropists. \nDetails of the benefit are: \nDate/Time: Monday March 28th @ 6pm (for a 6:30pm start)\nLocation: Centennial Hall – Sydney Town Hall\nDuration: A brief cultural and musical program of approximately one hour including insights from key speakers.\nCost: $75/ticket\nWhere to Buy: You can buy tickets here \n100% of proceeds from the benefit will be donated to Ukraine Crisis Appeal.\nBy supporting this event you wil be making a difference!\nBuy your tickets now! \nAndrew Denton has been confirmed as Master of Ceremonies for the evening \nFurther details on key speakers and performers will be confirmed closer to the event. \nPLEASE FORWARD THIS TO YOUR FRIENDS AND FAMILY AND ENCOURAGE THEM TO SIGN UP TO THE UCNSW MAILING LIST HERE
URL:https://afuo.org.au/event/australia-stands-with-ukraine-uca-benefit/
LOCATION:Sydney Town Hall\, NSW\, 2000\, Australia
CATEGORIES:Community Gathering
ATTACH;FMTTYPE=image/jpeg:https://afuo.org.au/wp-content/uploads/2022/03/Australia-Stands-with-Ukraine-Small.jpg
END:VEVENT
BEGIN:VEVENT
DTSTART;TZID=Australia/Perth:20220327T160000
DTEND;TZID=Australia/Perth:20220327T180000
DTSTAMP:20260420T130657
CREATED:20220327T115445Z
LAST-MODIFIED:20220327T115445Z
UID:13882-1648396800-1648404000@afuo.org.au
SUMMARY:Concert for Ukraine
DESCRIPTION:A ‘Concert for Ukraine’ is a benefit concert to raise vital funds for the humanitarian needs of the people of Ukraine. \nThe Benefit Concert combines the talents of Australia’s favourite classical and operatic artists\, some of which are Ukrainian born\, and studied at the Conservatorium of Kharkiv. \nThe concert is made up of eight internationally renowned artists\, who have come together for this special afternoon of great music to support such a significant cause. Additionally the concert will showcase two youth ensembles\, the Finesse Quartet and Buevska Trio. \nCurated by Rob and Irina Buevska-Cowell of Cappuccino Concerts Australia\, alongside Principal Patrons Tony and Gwenyth Lennon\, the ticket proceeds will be directed to organisations providing aid within Ukrainian communities.
URL:https://afuo.org.au/event/concert-for-ukraine/
CATEGORIES:Concert
ATTACH;FMTTYPE=image/jpeg:https://afuo.org.au/wp-content/uploads/2022/03/email-feature-800x450-new.jpg
END:VEVENT
BEGIN:VEVENT
DTSTART;TZID=Australia/Melbourne:20220327T140000
DTEND;TZID=Australia/Melbourne:20220327T153000
DTSTAMP:20260420T130657
CREATED:20220324T115853Z
LAST-MODIFIED:20220324T115853Z
UID:13811-1648389600-1648395000@afuo.org.au
SUMMARY:Rally - Help Ukraine Now
DESCRIPTION:Rally in support of Ukraine
URL:https://afuo.org.au/event/rally-help-ukraine-now-3/
LOCATION:Martin Place\, Sydney\, Martin Place\, Sydney\, NSW\, Australia
CATEGORIES:Community Gathering
ATTACH;FMTTYPE=image/jpeg:https://afuo.org.au/wp-content/uploads/2022/03/Help-Ukraine-Now-2.jpg
END:VEVENT
BEGIN:VEVENT
DTSTART;TZID=Australia/Melbourne:20220327T130000
DTEND;TZID=Australia/Melbourne:20220327T150000
DTSTAMP:20260420T130657
CREATED:20220324T114434Z
LAST-MODIFIED:20220324T114434Z
UID:13806-1648386000-1648393200@afuo.org.au
SUMMARY:Silent Vigil For Ukraine
DESCRIPTION:World Grievance Day of Mourning\nSilent Vigil\nMarch 27 – National Neighbour Day \nAn opportunity for people of good will to bear witness and to step back from the brink of nuclear destruction in solidarity with the suffering of all the people within Ukraine. \nFamilies and persons of good are invited to gather\, preferably in mourning with a black arm band\, at Tom’s Block immediately opposite the National Gallery at 1.00 pm on Sunday March 27. \nThe aim is to highlight the uncertainty for a world on the brink of nuclear destruction. It will be a silent vigil in recognition of Ukraine’s suffering and the potential nuclear destruction hanging over the planet.\nThe invitation invites all people concerned at the plight of Ukraine in the light of Putin and Russia’s atrocities to stand for peace in solidarity with our local Ukrainian community. \nThe gathering will hear directly from Stefan Romaniw\, Chair of the Australian Federation of Ukrainian Organisations who has recently returned from the conflict\, as well as local community leaders on the significance of the conflict to all of us. \nFor further information\nMax Dumais\n0483213532\nmaxdumais@optusnet.com.au
URL:https://afuo.org.au/event/silent-vigil-for-ukraine/
LOCATION:Toms Block\, linlithgow avenue\, South Melbourne\, VIC\, 3004\, Australia
CATEGORIES:Community Gathering
ATTACH;FMTTYPE=image/png:https://afuo.org.au/wp-content/uploads/2022/03/RALLIES-1.png
END:VEVENT
BEGIN:VEVENT
DTSTART;TZID=Australia/Melbourne:20220327T120000
DTEND;TZID=Australia/Melbourne:20220327T150000
DTSTAMP:20260420T130657
CREATED:20220325T104412Z
LAST-MODIFIED:20220325T104412Z
UID:13844-1648382400-1648393200@afuo.org.au
SUMMARY:Ukrainian Food Fair Fundraiser
DESCRIPTION:Ukrainian Orthodox Centre\n6 McKay Gardens\, Turner\, ACT
URL:https://afuo.org.au/event/ukrainian-food-fair-fundraiser/
LOCATION:Ukrainian Orthodox Centre\, Turner\, 6 McKay Gardens\, Turner\, ACT\, 2612\, Australia
ATTACH;FMTTYPE=image/jpeg:https://afuo.org.au/wp-content/uploads/2022/03/276148431_10161531757142738_976136352643018417_n.jpg
END:VEVENT
BEGIN:VEVENT
DTSTART;TZID=Australia/Melbourne:20220326T140000
DTEND;TZID=Australia/Melbourne:20220326T160000
DTSTAMP:20260420T130657
CREATED:20220324T234115Z
LAST-MODIFIED:20220324T234115Z
UID:13820-1648303200-1648310400@afuo.org.au
SUMMARY:We Stand With Ukraine
DESCRIPTION:Rally in support of Ukraine
URL:https://afuo.org.au/event/we-stand-with-ukraine/
LOCATION:258 George St Brisbane\, 258 George St\, Brisbane\, QLD\, 4000\, Australia
CATEGORIES:Community Gathering
ATTACH;FMTTYPE=image/png:https://afuo.org.au/wp-content/uploads/2022/03/DE38B960-12F2-4C00-9C2A-C9D840F999DC.png
END:VEVENT
BEGIN:VEVENT
DTSTART;TZID=Australia/Melbourne:20220326T140000
DTEND;TZID=Australia/Melbourne:20220326T160000
DTSTAMP:20260420T130657
CREATED:20220324T223846Z
LAST-MODIFIED:20220330T095045Z
UID:13823-1648303200-1648310400@afuo.org.au
SUMMARY:We Stand With Ukraine
DESCRIPTION:Rally in support of Ukraine
URL:https://afuo.org.au/event/we-stand-with-ukraine-2/
END:VEVENT
BEGIN:VEVENT
DTSTART;TZID=Australia/Melbourne:20220326T140000
DTEND;TZID=Australia/Melbourne:20220326T153000
DTSTAMP:20260420T130657
CREATED:20220323T041030Z
LAST-MODIFIED:20220323T041030Z
UID:13635-1648303200-1648308600@afuo.org.au
SUMMARY:Rally - Help Ukraine Now
DESCRIPTION:Rally at Martin Place – including march to Circular Quay
URL:https://afuo.org.au/event/rally-help-ukraine-now-2/
LOCATION:Martin Place\, Sydney\, Martin Place\, Sydney\, NSW\, Australia
CATEGORIES:Community Gathering
ATTACH;FMTTYPE=image/jpeg:https://afuo.org.au/wp-content/uploads/2022/03/Help-Ukraine-Now-1.jpg
END:VEVENT
BEGIN:VEVENT
DTSTART;TZID=Australia/Melbourne:20220326T100000
DTEND;TZID=Australia/Melbourne:20220326T120000
DTSTAMP:20260420T130657
CREATED:20220325T104437Z
LAST-MODIFIED:20220325T104437Z
UID:13847-1648288800-1648296000@afuo.org.au
SUMMARY:Sydney Displaced People - Meet and Greet
DESCRIPTION:A weekly meet and greet for newly arrived Displaced People giving them an opportunity to meet other Displaced People and the broader Ukrainian community over coffee and cake. The latest information on visas and education will also be shared at the event.
URL:https://afuo.org.au/event/sydney-displaced-people-meet-and-greet/
LOCATION:CYM Hall – 3 John St Lidcombe\, 3 John St\, Lidcombe\, New South Wales\, 2141\, Australia
CATEGORIES:Community Gathering
ATTACH;FMTTYPE=image/jpeg:https://afuo.org.au/wp-content/uploads/2022/03/Weekly-Drop-In.jpg
END:VEVENT
BEGIN:VEVENT
DTSTART;TZID=Australia/Sydney:20220326T100000
DTEND;TZID=Australia/Sydney:20220326T113000
DTSTAMP:20260420T130657
CREATED:20220325T103728Z
LAST-MODIFIED:20220325T103728Z
UID:13842-1648288800-1648294200@afuo.org.au
SUMMARY:Protest outside the russian embassy
DESCRIPTION:Stop Putin – stop war!\nProtest outside the russian embassy\n78 Canberra Avenue\, Griffith\, ACT\nStart time: 10.00AM
URL:https://afuo.org.au/event/protest-outside-the-russian-embassy/
END:VEVENT
BEGIN:VEVENT
DTSTART;TZID=Australia/Melbourne:20220324T170000
DTEND;TZID=Australia/Melbourne:20220324T180000
DTSTAMP:20260420T130657
CREATED:20220323T040926Z
LAST-MODIFIED:20220323T040926Z
UID:13632-1648141200-1648144800@afuo.org.au
SUMMARY:Rally - Help Ukraine Now
DESCRIPTION:Rally outside Pepsi Head office\, demonstrating the fact that Pepsi continues to do business in Russia.
URL:https://afuo.org.au/event/rally-help-ukraine-now/
LOCATION:Pepsi Head Office\, \, Tower A\, Level 4\, 799 Pacific Highway\, Chatswood
CATEGORIES:Community Gathering
ATTACH;FMTTYPE=image/jpeg:https://afuo.org.au/wp-content/uploads/2022/03/Help-Ukraine-Now.jpg
END:VEVENT
BEGIN:VEVENT
DTSTART;TZID=Australia/Melbourne:20220323T180000
DTEND;TZID=Australia/Melbourne:20220323T183000
DTSTAMP:20260420T130657
CREATED:20220323T041257Z
LAST-MODIFIED:20220323T041733Z
UID:13631-1648058400-1648060200@afuo.org.au
SUMMARY:Flash Mob at Krispy Kreme\, 563 Port Rd\, West Croydon\, Adelaide
DESCRIPTION:Come in your vyshyvanka to the Krispy Kreme store in West Croydon at 6pm and take your first bite of the ‘Peace in Ukraine’ blue and yellow doughnut.. All proceeds from the sale of the doughnut will be donated to the Ukraine Crisis Appeal.
URL:https://afuo.org.au/event/flash-mob-at-krispy-kreme-563-port-rd-west-croydon-adelaide/
ATTACH;FMTTYPE=image/png:https://afuo.org.au/wp-content/uploads/2022/03/Peace-in-Ukraine-Krispy-Kreme-doughnut-1.png
END:VEVENT
BEGIN:VEVENT
DTSTART;TZID=Australia/Melbourne:20220305T180000
DTEND;TZID=Australia/Melbourne:20220305T210000
DTSTAMP:20260420T130657
CREATED:20220301T115652Z
LAST-MODIFIED:20220301T115652Z
UID:13292-1646503200-1646514000@afuo.org.au
SUMMARY:The Well
DESCRIPTION:Date & Time: 5 March 2022\, at 6.00 pm (weather permitting) \nLocation: Flinders Street Station\, Federation Square and the Swanston Street Bridge\,  Melbourne
URL:https://afuo.org.au/event/the-well/
LOCATION:Flinders Street Station\, Federation Square and the Swanston Street Bridge\,  Melbourne
CATEGORIES:Concert
ORGANIZER;CN="Lehenda Ukrainian Dance Company":MAILTO:info@lehenda.com.au
END:VEVENT
BEGIN:VEVENT
DTSTART;TZID=Australia/Brisbane:20220115T190000
DTEND;TZID=Australia/Brisbane:20220115T233000
DTSTAMP:20260420T130657
CREATED:20210531T005505Z
LAST-MODIFIED:20210531T005505Z
UID:12669-1642273200-1642289400@afuo.org.au
SUMMARY:UCQ Malanka 2022
DESCRIPTION:
URL:https://afuo.org.au/event/ucq-malanka-2022/
LOCATION:Ukrainian Community Centre\, Queensland\, 47 Galsworthy Street\, Holland Park\, Queensland\, 4121\, Australia
CATEGORIES:Malanka
END:VEVENT
BEGIN:VEVENT
DTSTART;VALUE=DATE:20211219
DTEND;VALUE=DATE:20211220
DTSTAMP:20260420T130657
CREATED:20210531T005333Z
LAST-MODIFIED:20210531T005333Z
UID:12667-1639872000-1639958399@afuo.org.au
SUMMARY:UCQ Sviaty Mykolai
DESCRIPTION:
URL:https://afuo.org.au/event/ucq-sviaty-mykolai/
LOCATION:Ukrainian Community Centre\, Queensland\, 47 Galsworthy Street\, Holland Park\, Queensland\, 4121\, Australia
CATEGORIES:Community Gathering
END:VEVENT
BEGIN:VEVENT
DTSTART;VALUE=DATE:20211127
DTEND;VALUE=DATE:20211128
DTSTAMP:20260420T130657
CREATED:20210531T005151Z
LAST-MODIFIED:20210531T005151Z
UID:12665-1637971200-1638057599@afuo.org.au
SUMMARY:UCQ BBQ on the Greens Family Day
DESCRIPTION:
URL:https://afuo.org.au/event/ucq-bbq-on-the-greens-family-day/
LOCATION:Ukrainian Community Centre\, Queensland\, 47 Galsworthy Street\, Holland Park\, Queensland\, 4121\, Australia
CATEGORIES:BBQ
END:VEVENT
BEGIN:VEVENT
DTSTART;VALUE=DATE:20211009
DTEND;VALUE=DATE:20211010
DTSTAMP:20260420T130657
CREATED:20210531T005040Z
LAST-MODIFIED:20210531T005040Z
UID:12663-1633737600-1633823999@afuo.org.au
SUMMARY:UCQ Sviato Povrovy & Heroiv Concert
DESCRIPTION:Time: TBC
URL:https://afuo.org.au/event/ucq-sviato-povrovy-heroiv-concert/
LOCATION:Ukrainian Community Centre\, Queensland\, 47 Galsworthy Street\, Holland Park\, Queensland\, 4121\, Australia
CATEGORIES:Concert
END:VEVENT
BEGIN:VEVENT
DTSTART;TZID=Australia/Melbourne:20210918T180000
DTEND;TZID=Australia/Melbourne:20210918T230000
DTSTAMP:20260420T130657
CREATED:20210531T004734Z
LAST-MODIFIED:20210531T004734Z
UID:12661-1631988000-1632006000@afuo.org.au
SUMMARY:UCQ Social Night
DESCRIPTION:
URL:https://afuo.org.au/event/ucq-social-night-september21/
LOCATION:Ukrainian Community Centre\, Queensland\, 47 Galsworthy Street\, Holland Park\, Queensland\, 4121\, Australia
END:VEVENT
BEGIN:VEVENT
DTSTART;TZID=Australia/Brisbane:20210916T140000
DTEND;TZID=Australia/Brisbane:20210916T170000
DTSTAMP:20260420T130657
CREATED:20210531T003147Z
LAST-MODIFIED:20210531T003252Z
UID:12658-1631800800-1631811600@afuo.org.au
SUMMARY:UCQ - Annual General Meeting
DESCRIPTION:
URL:https://afuo.org.au/event/ucq-agm/
LOCATION:Ukrainian Community Centre\, Queensland\, 47 Galsworthy Street\, Holland Park\, Queensland\, 4121\, Australia
CATEGORIES:AGM
END:VEVENT
BEGIN:VEVENT
DTSTART;TZID=Australia/Melbourne:20210829T110000
DTEND;TZID=Australia/Melbourne:20210829T170000
DTSTAMP:20260420T130657
CREATED:20210722T050315Z
LAST-MODIFIED:20210722T050315Z
UID:12678-1630234800-1630256400@afuo.org.au
SUMMARY:Independence Day Celebrations - Tasmania
DESCRIPTION:
URL:https://afuo.org.au/event/independence-day-tasmania/
LOCATION:Association of Ukrainians Tasmania\, 185 Main Rd\, Moonah\, Tasmania\, 7009\, Australia
CATEGORIES:Community Gathering
END:VEVENT
BEGIN:VEVENT
DTSTART;VALUE=DATE:20210821
DTEND;VALUE=DATE:20210822
DTSTAMP:20260420T130657
CREATED:20210531T002737Z
LAST-MODIFIED:20210531T004641Z
UID:12656-1629504000-1629590399@afuo.org.au
SUMMARY:UCQ Ukrainian Independence Day Festival
DESCRIPTION:Time: TBC
URL:https://afuo.org.au/event/ucq-independence-day/
LOCATION:Ukrainian Community Centre\, Queensland\, 47 Galsworthy Street\, Holland Park\, Queensland\, 4121\, Australia
CATEGORIES:Community Gathering
END:VEVENT
BEGIN:VEVENT
DTSTART;TZID=Australia/Melbourne:20210717T180000
DTEND;TZID=Australia/Melbourne:20210717T230000
DTSTAMP:20260420T130657
CREATED:20210530T235029Z
LAST-MODIFIED:20210530T235124Z
UID:12652-1626544800-1626562800@afuo.org.au
SUMMARY:UCQ Social Night
DESCRIPTION:Ukrainian Community of Queensland Social Night
URL:https://afuo.org.au/event/ucq-social-night-july21/
LOCATION:Ukrainian Community Centre\, Queensland\, 47 Galsworthy Street\, Holland Park\, Queensland\, 4121\, Australia
CATEGORIES:Community Gathering
END:VEVENT
BEGIN:VEVENT
DTSTART;TZID=Australia/Melbourne:20210605T180000
DTEND;TZID=Australia/Melbourne:20210605T230000
DTSTAMP:20260420T130657
CREATED:20210530T234925Z
LAST-MODIFIED:20210530T234925Z
UID:12649-1622916000-1622934000@afuo.org.au
SUMMARY:UCQ - Social Night
DESCRIPTION:Ukrainian Community of Queensland Social Night
URL:https://afuo.org.au/event/ucq-social-night-june21/
LOCATION:Ukrainian Community Centre\, Queensland\, 47 Galsworthy Street\, Holland Park\, Queensland\, 4121\, Australia
CATEGORIES:Community Gathering
END:VEVENT
BEGIN:VEVENT
DTSTART;TZID=Australia/Melbourne:20190622T180000
DTEND;TZID=Australia/Melbourne:20190622T230000
DTSTAMP:20260420T130657
CREATED:20190523T104607Z
LAST-MODIFIED:20190526T114009Z
UID:12236-1561226400-1561244400@afuo.org.au
SUMMARY:Cocktail Night Fundraiser - Help Ukraine
DESCRIPTION:  \n \nHelp raise funds for a new Occupational Therapy program in Ukraine and celebrate major milestones of our community! \nThis includes 65 years of AFUO\, 70 years of the Ukrainian Women’s Association and 70 years of Ukrainian Settlement.\nKirrily Manning who will be facilitating the program\, is our special guest and keynote speaker. \nRead Kirrily’s biography story here. \nWhen: 22nd June 2019\, 6pm start       Where: 3-11 Russell St\, Essendon  Tickets: $20 donation         \nTICKETS ARE AVAILABLE NOW: bit.ly/AFUOCocktail\nЗ нагоди  ХХVIII З’їзду Союзу Українських Організацій Австралії \nта  відзначення \n70-ліття поселення українців в Австралії\n65-ліття СУОА\n70-ліття Союзу Українок Австралії\nзапрошуємо  українське громадянство \nна    КОКТЕЙЛЬНУ ВЕЧІРКУ\nта зустріч з делегатами З’їзду \nу суботу\, 22 червня 2019\, поч. год.6.00  веч. \nУкраїнський Народний  Дім \, 3 – 11 Russell St.\, Essendon \nКвитки: \nbit.ly/AFUOCocktail\n$20   Замовлення до 19.6.2019 \nУ програмі \nДоповідь  спеціальної  гості Kirrily Manning\, координатора ініціативи  Go Global Ukraine та доцента кафедри у школі професійної терапії та соціальної роботи в університеті Куртін\, З.А. \nKirrily Manning\, за підтримки СУОА\, планує впровадження нового проекту програми навчання фахівців з професійної терапії в Україні – Occupational Therapy Skills Training\, Ukraine . \nКоктейльною Вечікою започатковуємо благодійний  захід збору коштів для підтримки цього проекту. \nЧитайте про історію Кіррілі тут.
URL:https://afuo.org.au/event/cocktail-night/
LOCATION:Ukrainian House\, Essendon\, 3-11 Russell St\, Essendon\, Victoria\, 3051\, Australia
CATEGORIES:Cocktail Night
ATTACH;FMTTYPE=image/png:https://afuo.org.au/wp-content/uploads/2019/05/BANQUET-3-1.png
ORGANIZER;CN="Australian Federation of Ukrainian Organisations":MAILTO:zdvyh@ozeukes.com
END:VEVENT
BEGIN:VEVENT
DTSTART;TZID=Australia/Melbourne:20190406T170000
DTEND;TZID=Australia/Melbourne:20190406T210000
DTSTAMP:20260420T130657
CREATED:20190326T004657Z
LAST-MODIFIED:20190326T004657Z
UID:12191-1554570000-1554584400@afuo.org.au
SUMMARY:Verchovyna Vyshyvka Tour: Adelaide
DESCRIPTION:
URL:https://afuo.org.au/event/verchovyna-vyshyvka-tour-adelaide/
LOCATION:Association of Ukrainians SA\, 66 Orsmond St\,\, Adelaide\, South Australia\, 5007\, Australia
CATEGORIES:Concert,Dance
ATTACH;FMTTYPE=image/jpeg:https://afuo.org.au/wp-content/uploads/2019/03/CYM2.jpg
END:VEVENT
END:VCALENDAR