BEGIN:VCALENDAR
VERSION:2.0
PRODID:-//Australian Federation of Ukrainian Organisations - ECPv6.15.20//NONSGML v1.0//EN
CALSCALE:GREGORIAN
METHOD:PUBLISH
X-ORIGINAL-URL:https://afuo.org.au
X-WR-CALDESC:Events for Australian Federation of Ukrainian Organisations
REFRESH-INTERVAL;VALUE=DURATION:PT1H
X-Robots-Tag:noindex
X-PUBLISHED-TTL:PT1H
BEGIN:VTIMEZONE
TZID:Australia/Melbourne
BEGIN:STANDARD
TZOFFSETFROM:+1100
TZOFFSETTO:+1000
TZNAME:AEST
DTSTART:20210403T160000
END:STANDARD
BEGIN:DAYLIGHT
TZOFFSETFROM:+1000
TZOFFSETTO:+1100
TZNAME:AEDT
DTSTART:20211002T160000
END:DAYLIGHT
BEGIN:STANDARD
TZOFFSETFROM:+1100
TZOFFSETTO:+1000
TZNAME:AEST
DTSTART:20220402T160000
END:STANDARD
BEGIN:DAYLIGHT
TZOFFSETFROM:+1000
TZOFFSETTO:+1100
TZNAME:AEDT
DTSTART:20221001T160000
END:DAYLIGHT
BEGIN:STANDARD
TZOFFSETFROM:+1100
TZOFFSETTO:+1000
TZNAME:AEST
DTSTART:20230401T160000
END:STANDARD
BEGIN:DAYLIGHT
TZOFFSETFROM:+1000
TZOFFSETTO:+1100
TZNAME:AEDT
DTSTART:20230930T160000
END:DAYLIGHT
END:VTIMEZONE
BEGIN:VEVENT
DTSTART;TZID=Australia/Melbourne:20220417T090000
DTEND;TZID=Australia/Melbourne:20220417T103000
DTSTAMP:20260421T210053
CREATED:20220412T223807Z
LAST-MODIFIED:20220412T223807Z
UID:14140-1650186000-1650191400@afuo.org.au
SUMMARY:Ardeer | Квітна Неділя - Літургія | Palm Sunday - Liturgy
DESCRIPTION:Divine Liturgy and blessing of willow\nБожественна Літургія та благословення верби
URL:https://afuo.org.au/event/ardeer-%d0%ba%d0%b2%d1%96%d1%82%d0%bd%d0%b0-%d0%bd%d0%b5%d0%b4%d1%96%d0%bb%d1%8f-%d0%bb%d1%96%d1%82%d1%83%d1%80%d0%b3%d1%96%d1%8f-palm-sunday-liturgy/
LOCATION:Ukrainian Catholic Church\, Ardeer\, 2 Holmes St\, Ardeer\, Victoria\, 3022\, Australia
CATEGORIES:Prayer
ORGANIZER;CN="Ukrainian Catholic Church Ardeer":MAILTO:parishofdormition@gmail.com
END:VEVENT
BEGIN:VEVENT
DTSTART;TZID=Australia/Melbourne:20220414T180000
DTEND;TZID=Australia/Melbourne:20220414T183000
DTSTAMP:20260421T210053
CREATED:20220412T223904Z
LAST-MODIFIED:20220412T223904Z
UID:14139-1649959200-1649961000@afuo.org.au
SUMMARY:Ardeer |Молебень в часі війни - Moleben during a war
DESCRIPTION:Молебень в часі війни – Moleben during a war
URL:https://afuo.org.au/event/ardeer-%d0%bc%d0%be%d0%bb%d0%b5%d0%b1%d0%b5%d0%bd%d1%8c-%d0%b2-%d1%87%d0%b0%d1%81%d1%96-%d0%b2%d1%96%d0%b9%d0%bd%d0%b8-moleben-during-a-war/
LOCATION:Ukrainian Catholic Church\, Ardeer\, 2 Holmes St\, Ardeer\, Victoria\, 3022\, Australia
CATEGORIES:Prayer
ORGANIZER;CN="Ukrainian Catholic Church Ardeer":MAILTO:parishofdormition@gmail.com
END:VEVENT
END:VCALENDAR